BEGIN:VCALENDAR
METHOD:PUBLISH
X-MS-OLK-FORCEINSPECTOROPEN:TRUE
BEGIN:VEVENT
CLASS:PUBLIC
CREATED:20260425T060324Z
DESCRIPTION:- Anmeldung im Domshop
DTEND:20260513T215959Z
DTSTAMP:20260425T060324Z
DTSTART:20260513T093000Z
LAST-MODIFIED:20260425T060324Z
LOCATION:Dom München Zu Unserer Lieben Frau (Frauenkirche), Frauenplatz 1, 80331, München
PRIORITY:5
SEQUENCE:0
SUMMARY;LANGUAGE=de-de:Kirchenführung
TRANSP:OPAQUE
UID:ce1e0c32-f120-46e4-94c4-a2c45ce7616b-9
X-ALT-DESC;FMTTYPE=text/html:<!DOCTYPE HTML PUBLIC -//W3C//DTD HTML 3.2//EN>\n<HTML>
<HEAD>
<META NAME='Generator' CONTENT='MS Exchange Server version 08.00.0681.000'>
<TITLE></TITLE>
</HEAD>
<BODY>


<P DIR=LTR><SPAN LANG='de-de'></SPAN><SPAN LANG='de-de'></SPAN><SPAN LANG='de-de'><FONT SIZE=2 FACE='Arial'></FONT></SPAN><br /><SPAN LANG='de-de'><FONT SIZE=2 FACE='Arial'>- Anmeldung im Domshop</FONT></SPAN><br /><SPAN LANG='de-de'><FONT SIZE=2 FACE='Arial'></FONT></SPAN><SPAN LANG='de-de'></SPAN><SPAN LANG='de-de'></SPAN><SPAN LANG='de-de'></SPAN></P>

</BODY>
</HTML>
SUMMARY:Kirchenführung
X-MICROSOFT-CDO-BUSYSTATUS:BUSY
X-MICROSOFT-CDO-IMPORTANCE:1
BEGIN:VALARM
TRIGGER:-PT15M
ACTION:DISPLAY
DESCRIPTION:Reminder
END:VALARM
END:VEVENT
END:VCALENDAR
