BEGIN:VCALENDAR
METHOD:PUBLISH
X-MS-OLK-FORCEINSPECTOROPEN:TRUE
BEGIN:VEVENT
CLASS:PUBLIC
CREATED:20260425T042023Z
DESCRIPTION:Domkapitular   Weihbischof Rupert Graf zu Stolberg
DTEND:20260427T215959Z
DTSTAMP:20260425T042023Z
DTSTART:20260427T160000Z
LAST-MODIFIED:20260425T042023Z
LOCATION:Dom München Zu Unserer Lieben Frau (Frauenkirche), Frauenplatz 1, 80331, München
PRIORITY:5
SEQUENCE:0
SUMMARY;LANGUAGE=de-de:Hl. Messe
TRANSP:OPAQUE
UID:229d002a-d552-44d6-8941-9829c50f9507-943
X-ALT-DESC;FMTTYPE=text/html:<!DOCTYPE HTML PUBLIC -//W3C//DTD HTML 3.2//EN>\n<HTML>
<HEAD>
<META NAME='Generator' CONTENT='MS Exchange Server version 08.00.0681.000'>
<TITLE></TITLE>
</HEAD>
<BODY>


<P DIR=LTR><SPAN LANG='de-de'></SPAN><SPAN LANG='de-de'></SPAN><SPAN LANG='de-de'><FONT SIZE=2 FACE='Arial'>Domkapitular   Weihbischof Rupert Graf zu Stolberg</FONT></SPAN><br /><SPAN LANG='de-de'><FONT SIZE=2 FACE='Arial'></FONT></SPAN><br /><SPAN LANG='de-de'><FONT SIZE=2 FACE='Arial'></FONT></SPAN><SPAN LANG='de-de'></SPAN><SPAN LANG='de-de'></SPAN><SPAN LANG='de-de'></SPAN></P>

</BODY>
</HTML>
SUMMARY:Hl. Messe
X-MICROSOFT-CDO-BUSYSTATUS:BUSY
X-MICROSOFT-CDO-IMPORTANCE:1
BEGIN:VALARM
TRIGGER:-PT15M
ACTION:DISPLAY
DESCRIPTION:Reminder
END:VALARM
END:VEVENT
END:VCALENDAR
