BEGIN:VCALENDAR
METHOD:PUBLISH
X-MS-OLK-FORCEINSPECTOROPEN:TRUE
BEGIN:VEVENT
CLASS:PUBLIC
CREATED:20260425T052030Z
DESCRIPTION:Wir gehen deshalb beim diesj&#228;hrigen Fairhandelstreffen der&#160;Frage nach, ob es im Bereich des Fairen Handels immer noch&#160;kolonial-&#228;hnliche Strukturen und Mechanismen gibt.Wie tragen wir dar&#252;ber hinaus durch unser Denken, Handeln&#160;und auch Konsumverhalten &#8211; unbewusst &#8211; zum Fortbestehen&#160;von Machtstrukturen bei, deren &#220;berwindung der Faire Handel&#160;zum Ziel hat? Gemeinsam werden wir nach L&#246;sungen suchen,um koloniale Kontinuit&#228;ten zu &#252;berwinden.Gewaltsame territoriale Eroberungen, Unterdr&#252;ckung der&#160;indigenen Bev&#246;lkerung und Ausbeutung von Rohstoffen sind&#160;typische Merkmale des Kolonialismus. Deutschland besa&#223; biszum Ersten Weltkrieg einige Jahrzehnte Kolonien, insbesondere&#160;in Afrika. Genau betrachtet, hat der Kolonialismus nie&#160;aufgeh&#246;rt.Auf Kosten von Mensch und Natur werden Rohstoffe vor allem&#160;in L&#228;ndern des Globalen S&#252;dens ausgebeutet. In j&#252;ngster Zeit&#160;zeigen die Gro&#223;m&#228;chte unverhohlen ihre territorialen&#160;Machtanspr&#252;che und schrecken nicht zur&#252;ck, diese milit&#228;risch durchzu- setzen.Wir starten im &#8222;Museum F&#252;nf Kontinente&#8220; mit einer F&#252;hrung&#160;zum Tagungsthema.Daneben gibt es wie gehabt viel Austauschm&#246;glichkeit zu den Themen, die Sie aktuell bewegen.Das Programm entnehmen Sie bitte dem Flyer.Die Kosten werden vom Di&#246;zesanrat der Katholiken und der Abteilung Weltkirche des Erzbisch&#246;flichen Ordinariats M&#252;nchen &#252;bernommen.
Pfarrverband HaidhausenKolpingsaal, Kirchenstra&#223;e 6 InnenhofMuseum F&#252;nf KontinenteMaximilianstra&#223;e 42, 80538 M&#252;nchen
DTEND:20260620T140000Z
DTSTAMP:20260425T052030Z
DTSTART:20260620T080000Z
LAST-MODIFIED:20260425T052030Z
LOCATION:Externer Ort - siehe Beschreibung
PRIORITY:5
SEQUENCE:0
SUMMARY;LANGUAGE=de-de:Fairhandelstreffen: KOLONIALE KONTINUITÄTEN
IM FAIREN HANDEL
ÜBERWINDEN
TRANSP:OPAQUE
UID:0fd07dcf-7fd4-48be-8559-9f217ba15ab6-389
X-ALT-DESC;FMTTYPE=text/html:<!DOCTYPE HTML PUBLIC -//W3C//DTD HTML 3.2//EN>\n<HTML>
<HEAD>
<META NAME='Generator' CONTENT='MS Exchange Server version 08.00.0681.000'>
<TITLE></TITLE>
</HEAD>
<BODY>


<P DIR=LTR><SPAN LANG='de-de'></SPAN><SPAN LANG='de-de'></SPAN><SPAN LANG='de-de'><FONT SIZE=2 FACE='Arial'>Wir gehen deshalb beim diesj&#228;hrigen Fairhandelstreffen der&#160;Frage nach, ob es im Bereich des Fairen Handels immer noch&#160;kolonial-&#228;hnliche Strukturen und Mechanismen gibt.<br /><br />Wie tragen wir dar&#252;ber hinaus durch unser Denken, Handeln&#160;und auch Konsumverhalten &#8211; unbewusst &#8211; zum Fortbestehen&#160;von Machtstrukturen bei, deren &#220;berwindung der Faire Handel&#160;zum Ziel hat? Gemeinsam werden wir nach L&#246;sungen suchen,<br />um koloniale Kontinuit&#228;ten zu &#252;berwinden.<br /><br />Gewaltsame territoriale Eroberungen, Unterdr&#252;ckung der&#160;indigenen Bev&#246;lkerung und Ausbeutung von Rohstoffen sind&#160;typische Merkmale des Kolonialismus. Deutschland besa&#223; bis<br />zum Ersten Weltkrieg einige Jahrzehnte Kolonien, insbesondere&#160;in Afrika. Genau betrachtet, hat der Kolonialismus nie&#160;aufgeh&#246;rt.<br />Auf Kosten von Mensch und Natur werden Rohstoffe vor allem&#160;in L&#228;ndern des Globalen S&#252;dens ausgebeutet. In j&#252;ngster Zeit&#160;zeigen die Gro&#223;m&#228;chte unverhohlen ihre territorialen&#160;Machtanspr&#252;che und schrecken nicht zur&#252;ck, diese milit&#228;risch durchzu- setzen.<br /><br />Wir starten im &#8222;Museum F&#252;nf Kontinente&#8220; mit einer F&#252;hrung&#160;zum Tagungsthema.<br /><br />Daneben gibt es wie gehabt viel Austauschm&#246;glichkeit zu den Themen, die Sie aktuell bewegen.<br /><br />Das Programm entnehmen Sie bitte dem Flyer.Die Kosten werden vom Di&#246;zesanrat der Katholiken und der Abteilung Weltkirche des Erzbisch&#246;flichen Ordinariats M&#252;nchen &#252;bernommen.</FONT></SPAN><br /><SPAN LANG='de-de'><FONT SIZE=2 FACE='Arial'>Pfarrverband Haidhausen<br />Kolpingsaal, Kirchenstra&#223;e 6 Innenhof<br /><br />Museum F&#252;nf Kontinente<br />Maximilianstra&#223;e 42, 80538 M&#252;nchen</FONT></SPAN><br /><SPAN LANG='de-de'><FONT SIZE=2 FACE='Arial'></FONT></SPAN><SPAN LANG='de-de'></SPAN><SPAN LANG='de-de'></SPAN><SPAN LANG='de-de'></SPAN></P>

</BODY>
</HTML>
SUMMARY:Fairhandelstreffen: KOLONIALE KONTINUITÄTEN
IM FAIREN HANDEL
ÜBERWINDEN
X-MICROSOFT-CDO-BUSYSTATUS:BUSY
X-MICROSOFT-CDO-IMPORTANCE:1
BEGIN:VALARM
TRIGGER:-PT15M
ACTION:DISPLAY
DESCRIPTION:Reminder
END:VALARM
END:VEVENT
END:VCALENDAR
