BEGIN:VCALENDAR
METHOD:PUBLISH
X-MS-OLK-FORCEINSPECTOROPEN:TRUE
BEGIN:VEVENT
CLASS:PUBLIC
CREATED:20260426T002706Z
DESCRIPTION:DTEND:20260429T215959Z
DTSTAMP:20260426T002706Z
DTSTART:20260429T163000Z
LAST-MODIFIED:20260426T002706Z
LOCATION:Pfarrkirche Hohenbrunn-St. Stephanus, Taufkirchner Str. 1, 85662, Hohenbrunn
PRIORITY:5
SEQUENCE:0
SUMMARY;LANGUAGE=de-de:Eucharistiefeier
TRANSP:OPAQUE
UID:9d2b38c5-a2c6-4b09-b0ba-2b8f3891c4a6-538
X-ALT-DESC;FMTTYPE=text/html:<!DOCTYPE HTML PUBLIC -//W3C//DTD HTML 3.2//EN>\n<HTML>
<HEAD>
<META NAME='Generator' CONTENT='MS Exchange Server version 08.00.0681.000'>
<TITLE></TITLE>
</HEAD>
<BODY>


<P DIR=LTR><SPAN LANG='de-de'></SPAN><SPAN LANG='de-de'></SPAN><SPAN LANG='de-de'><FONT SIZE=2 FACE='Arial'></FONT></SPAN><br /><SPAN LANG='de-de'><FONT SIZE=2 FACE='Arial'></FONT></SPAN><br /><SPAN LANG='de-de'><FONT SIZE=2 FACE='Arial'></FONT></SPAN><SPAN LANG='de-de'></SPAN><SPAN LANG='de-de'></SPAN><SPAN LANG='de-de'></SPAN></P>

</BODY>
</HTML>
SUMMARY:Eucharistiefeier
X-MICROSOFT-CDO-BUSYSTATUS:BUSY
X-MICROSOFT-CDO-IMPORTANCE:1
BEGIN:VALARM
TRIGGER:-PT15M
ACTION:DISPLAY
DESCRIPTION:Reminder
END:VALARM
END:VEVENT
END:VCALENDAR
