BEGIN:VCALENDAR
METHOD:PUBLISH
X-MS-OLK-FORCEINSPECTOROPEN:TRUE
BEGIN:VEVENT
CLASS:PUBLIC
CREATED:20260425T173145Z
DESCRIPTION:DTEND:20260429T215959Z
DTSTAMP:20260425T173145Z
DTSTART:20260429T160000Z
LAST-MODIFIED:20260425T173145Z
LOCATION:Pfarrkirche Zorneding-St. Martin, Anton-Grandauer-Str. 5, 85604, Zorneding
PRIORITY:5
SEQUENCE:0
SUMMARY;LANGUAGE=de-de:Dankgottesdienst für alle Ehrenamtlichen der Pfarrei St. Martin mit anschl. Einladung in den Martinstadl
TRANSP:OPAQUE
UID:2f5aeaee-9f20-43a8-8a32-65616f5039f9-335
X-ALT-DESC;FMTTYPE=text/html:<!DOCTYPE HTML PUBLIC -//W3C//DTD HTML 3.2//EN>\n<HTML>
<HEAD>
<META NAME='Generator' CONTENT='MS Exchange Server version 08.00.0681.000'>
<TITLE></TITLE>
</HEAD>
<BODY>


<P DIR=LTR><SPAN LANG='de-de'></SPAN><SPAN LANG='de-de'></SPAN><SPAN LANG='de-de'><FONT SIZE=2 FACE='Arial'></FONT></SPAN><br /><SPAN LANG='de-de'><FONT SIZE=2 FACE='Arial'></FONT></SPAN><br /><SPAN LANG='de-de'><FONT SIZE=2 FACE='Arial'></FONT></SPAN><SPAN LANG='de-de'></SPAN><SPAN LANG='de-de'></SPAN><SPAN LANG='de-de'></SPAN></P>

</BODY>
</HTML>
SUMMARY:Dankgottesdienst für alle Ehrenamtlichen der Pfarrei St. Martin mit anschl. Einladung in den Martinstadl
X-MICROSOFT-CDO-BUSYSTATUS:BUSY
X-MICROSOFT-CDO-IMPORTANCE:1
BEGIN:VALARM
TRIGGER:-PT15M
ACTION:DISPLAY
DESCRIPTION:Reminder
END:VALARM
END:VEVENT
END:VCALENDAR
