BEGIN:VCALENDAR
METHOD:PUBLISH
X-MS-OLK-FORCEINSPECTOROPEN:TRUE
BEGIN:VEVENT
CLASS:PUBLIC
CREATED:20260426T022343Z
DESCRIPTION:DTEND:20260506T215959Z
DTSTAMP:20260426T022343Z
DTSTART:20260506T160000Z
LAST-MODIFIED:20260426T022343Z
LOCATION:Pfarrkirche Hohenbrunn-St. Stephanus, Taufkirchner Str. 1, 85662, Hohenbrunn
PRIORITY:5
SEQUENCE:0
SUMMARY;LANGUAGE=de-de:Rosenkranz vor dem Kriegerdenkmal
TRANSP:OPAQUE
UID:56956cf7-845c-416c-b21e-85a2f3bbb70d-712
X-ALT-DESC;FMTTYPE=text/html:<!DOCTYPE HTML PUBLIC -//W3C//DTD HTML 3.2//EN>\n<HTML>
<HEAD>
<META NAME='Generator' CONTENT='MS Exchange Server version 08.00.0681.000'>
<TITLE></TITLE>
</HEAD>
<BODY>


<P DIR=LTR><SPAN LANG='de-de'></SPAN><SPAN LANG='de-de'></SPAN><SPAN LANG='de-de'><FONT SIZE=2 FACE='Arial'></FONT></SPAN><br /><SPAN LANG='de-de'><FONT SIZE=2 FACE='Arial'></FONT></SPAN><br /><SPAN LANG='de-de'><FONT SIZE=2 FACE='Arial'></FONT></SPAN><SPAN LANG='de-de'></SPAN><SPAN LANG='de-de'></SPAN><SPAN LANG='de-de'></SPAN></P>

</BODY>
</HTML>
SUMMARY:Rosenkranz vor dem Kriegerdenkmal
X-MICROSOFT-CDO-BUSYSTATUS:BUSY
X-MICROSOFT-CDO-IMPORTANCE:1
BEGIN:VALARM
TRIGGER:-PT15M
ACTION:DISPLAY
DESCRIPTION:Reminder
END:VALARM
END:VEVENT
END:VCALENDAR
