BEGIN:VCALENDAR
METHOD:PUBLISH
X-MS-OLK-FORCEINSPECTOROPEN:TRUE
BEGIN:VEVENT
CLASS:PUBLIC
CREATED:20260425T162726Z
DESCRIPTION:DTEND:20260425T215959Z
DTSTAMP:20260425T162726Z
DTSTART:20260425T060000Z
LAST-MODIFIED:20260425T162726Z
LOCATION:Pfarrkirche St. Christoph-St. Christopherus, Sankt Christoph 1, 85643, Steinhöring
PRIORITY:5
SEQUENCE:0
SUMMARY;LANGUAGE=de-de:Aufbruch zur Wallfahrt nach Tuntenhausen und Birkenstein
TRANSP:OPAQUE
UID:cb90adce-dc1e-4302-bed4-bc717403efaa-654
X-ALT-DESC;FMTTYPE=text/html:<!DOCTYPE HTML PUBLIC -//W3C//DTD HTML 3.2//EN>\n<HTML>
<HEAD>
<META NAME='Generator' CONTENT='MS Exchange Server version 08.00.0681.000'>
<TITLE></TITLE>
</HEAD>
<BODY>


<P DIR=LTR><SPAN LANG='de-de'></SPAN><SPAN LANG='de-de'></SPAN><SPAN LANG='de-de'><FONT SIZE=2 FACE='Arial'></FONT></SPAN><br /><SPAN LANG='de-de'><FONT SIZE=2 FACE='Arial'></FONT></SPAN><br /><SPAN LANG='de-de'><FONT SIZE=2 FACE='Arial'></FONT></SPAN><SPAN LANG='de-de'></SPAN><SPAN LANG='de-de'></SPAN><SPAN LANG='de-de'></SPAN></P>

</BODY>
</HTML>
SUMMARY:Aufbruch zur Wallfahrt nach Tuntenhausen und Birkenstein
X-MICROSOFT-CDO-BUSYSTATUS:BUSY
X-MICROSOFT-CDO-IMPORTANCE:1
BEGIN:VALARM
TRIGGER:-PT15M
ACTION:DISPLAY
DESCRIPTION:Reminder
END:VALARM
END:VEVENT
END:VCALENDAR
