BEGIN:VCALENDAR
METHOD:PUBLISH
X-MS-OLK-FORCEINSPECTOROPEN:TRUE
BEGIN:VEVENT
CLASS:PUBLIC
CREATED:20260426T040047Z
DESCRIPTION:DTEND:20260428T215959Z
DTSTAMP:20260426T040047Z
DTSTART:20260428T142500Z
LAST-MODIFIED:20260426T040047Z
LOCATION:Pfarrkirche Ebersberg-St. Sebastian, Bahnhofstr. 7, 85560, Ebersberg
PRIORITY:5
SEQUENCE:0
SUMMARY;LANGUAGE=de-de:Rosenkranz für den Frieden
TRANSP:OPAQUE
UID:779f29ea-2afa-40fb-8d2e-f1e23aa23dfe-812
X-ALT-DESC;FMTTYPE=text/html:<!DOCTYPE HTML PUBLIC -//W3C//DTD HTML 3.2//EN>\n<HTML>
<HEAD>
<META NAME='Generator' CONTENT='MS Exchange Server version 08.00.0681.000'>
<TITLE></TITLE>
</HEAD>
<BODY>


<P DIR=LTR><SPAN LANG='de-de'></SPAN><SPAN LANG='de-de'></SPAN><SPAN LANG='de-de'><FONT SIZE=2 FACE='Arial'></FONT></SPAN><br /><SPAN LANG='de-de'><FONT SIZE=2 FACE='Arial'></FONT></SPAN><br /><SPAN LANG='de-de'><FONT SIZE=2 FACE='Arial'></FONT></SPAN><SPAN LANG='de-de'></SPAN><SPAN LANG='de-de'></SPAN><SPAN LANG='de-de'></SPAN></P>

</BODY>
</HTML>
SUMMARY:Rosenkranz für den Frieden
X-MICROSOFT-CDO-BUSYSTATUS:BUSY
X-MICROSOFT-CDO-IMPORTANCE:1
BEGIN:VALARM
TRIGGER:-PT15M
ACTION:DISPLAY
DESCRIPTION:Reminder
END:VALARM
END:VEVENT
END:VCALENDAR
