BEGIN:VCALENDAR
METHOD:PUBLISH
X-MS-OLK-FORCEINSPECTOROPEN:TRUE
BEGIN:VEVENT
CLASS:PUBLIC
CREATED:20260425T212149Z
DESCRIPTION:DTEND:20260501T215959Z
DTSTAMP:20260425T212149Z
DTSTART:20260501T060000Z
LAST-MODIFIED:20260425T212149Z
LOCATION:Pfarrkirche Grafing-St. Ägidius, Kirchenplatz 5, 85567, Grafing b. München
PRIORITY:5
SEQUENCE:0
SUMMARY;LANGUAGE=de-de:Pilgermesse in Maria Altenburg
TRANSP:OPAQUE
UID:8aad7f39-8b0d-4f75-ab09-cd03a91cfb01-52
X-ALT-DESC;FMTTYPE=text/html:<!DOCTYPE HTML PUBLIC -//W3C//DTD HTML 3.2//EN>\n<HTML>
<HEAD>
<META NAME='Generator' CONTENT='MS Exchange Server version 08.00.0681.000'>
<TITLE></TITLE>
</HEAD>
<BODY>


<P DIR=LTR><SPAN LANG='de-de'></SPAN><SPAN LANG='de-de'></SPAN><SPAN LANG='de-de'><FONT SIZE=2 FACE='Arial'></FONT></SPAN><br /><SPAN LANG='de-de'><FONT SIZE=2 FACE='Arial'></FONT></SPAN><br /><SPAN LANG='de-de'><FONT SIZE=2 FACE='Arial'></FONT></SPAN><SPAN LANG='de-de'></SPAN><SPAN LANG='de-de'></SPAN><SPAN LANG='de-de'></SPAN></P>

</BODY>
</HTML>
SUMMARY:Pilgermesse in Maria Altenburg
X-MICROSOFT-CDO-BUSYSTATUS:BUSY
X-MICROSOFT-CDO-IMPORTANCE:1
BEGIN:VALARM
TRIGGER:-PT15M
ACTION:DISPLAY
DESCRIPTION:Reminder
END:VALARM
END:VEVENT
END:VCALENDAR
